BEGIN:VCALENDAR
VERSION:2.0
PRODID:-//hacksw/handcal//NONSGML v1.0//EN
BEGIN:VEVENT
SUMMARY:Entrainement
UID:a121a2c0-2da3-48cf-af49-8dcc4a9e9e23
DTSTART:20260222T090000Z
DTEND:20260222T130000Z
LOCATION:Localisation   
CATEGORIES:Sportif
STATUS:
DESCRIPTION:Entrainement pour tout le monde afin de preparer les
 prochains tournois.
URL;VALUE=URI:https://bad-bernin.sportsregions.fr/evenements/2026/02/22/entrainement-2419245
END:VEVENT
BEGIN:VEVENT
SUMMARY:AG du 10 mars 2026
UID:f7ce422e-cbdb-4cb4-8b77-779baa5ead33
DTSTART:20260310T181500Z
DTEND:20260310T184500Z
LOCATION:Localisation le cube 38190 BERNIN
CATEGORIES:Administratif
STATUS:
DESCRIPTION:<p>Notre AG se deroulera mardi 10 mars.  </p>
 
 <p>Les
 documents sont disponibles sur le site dans l'espace document. Si
 vous ne pouvez pas venir merci d'envoyer une procuration a notre
 adresse email ou d'amener celle d'autres personnes.</p>
URL;VALUE=URI:https://bad-bernin.sportsregions.fr/evenements/2026/03/10/ag-du-10-mars-2026-2420569
END:VEVENT
BEGIN:VEVENT
SUMMARY:Entrainement smatch
UID:9bf878a3-4c94-4a8a-9ad4-b0a4737bc7b6
DTSTART:20260311T183000Z
DTEND:20260318T203000Z
LOCATION:Localisation   
CATEGORIES:Sportif
STATUS:
URL;VALUE=URI:https://bad-bernin.sportsregions.fr/evenements/2026/03/11/entrainement-smatch-2421760
END:VEVENT
END:VCALENDAR
