BEGIN:VCALENDAR
VERSION:2.0
PRODID:-//hacksw/handcal//NONSGML v1.0//EN
BEGIN:VEVENT
SUMMARY:Entrainement
UID:a121a2c0-2da3-48cf-af49-8dcc4a9e9e23
DTSTART:20260222T090000Z
DTEND:20260222T130000Z
LOCATION:Localisation   
CATEGORIES:Sportif
STATUS:
DESCRIPTION:Entrainement pour tout le monde afin de preparer les
 prochains tournois.
URL;VALUE=URI:https://bad-bernin.sportsregions.fr/evenements/2026/02/22/entrainement-2419245
END:VEVENT
END:VCALENDAR
